BEGIN:VCALENDAR
VERSION:2.0
PRODID:-//Kairos Center - ECPv5.8.0//NONSGML v1.0//EN
CALSCALE:GREGORIAN
METHOD:PUBLISH
X-WR-CALNAME:Kairos Center
X-ORIGINAL-URL:https://kairoscenter.org
X-WR-CALDESC:Events for Kairos Center
BEGIN:VTIMEZONE
TZID:America/New_York
BEGIN:DAYLIGHT
TZOFFSETFROM:-0500
TZOFFSETTO:-0400
TZNAME:EDT
DTSTART:20210314T070000
END:DAYLIGHT
BEGIN:STANDARD
TZOFFSETFROM:-0400
TZOFFSETTO:-0500
TZNAME:EST
DTSTART:20211107T060000
END:STANDARD
END:VTIMEZONE
BEGIN:VEVENT
DTSTART;TZID=America/New_York:20210607T150000
DTEND;TZID=America/New_York:20210607T163000
DTSTAMP:20210715T141840
CREATED:20210525T233135Z
LAST-MODIFIED:20210525T233135Z
UID:8407-1623078000-1623083400@kairoscenter.org
SUMMARY:Moral Monday: The Third Reconstruction Resolution
DESCRIPTION:On June 7th\, state coordinating committees of the Poor People’s Campaign will hold simultaneous actions at the offices of members of the US House of Representatives to demand all of their Representatives embrace The Third Reconstruction.
URL:https://kairoscenter.org/event/moral-monday-the-third-reconstruction-resolution/
ATTACH;FMTTYPE=image/jpeg:https://kairoscenter.org/wp-content/uploads/2021/05/FBEvent_MM_June7th-9.jpg
ORGANIZER;CN="Poor%20People%27s%20Campaign":MAILTO:info@poorpeoplescampaign.org
END:VEVENT
END:VCALENDAR