BEGIN:VCALENDAR
VERSION:2.0
PRODID:-//Kairos Center - ECPv5.8.0//NONSGML v1.0//EN
CALSCALE:GREGORIAN
METHOD:PUBLISH
X-WR-CALNAME:Kairos Center
X-ORIGINAL-URL:https://kairoscenter.org
X-WR-CALDESC:Events for Kairos Center
BEGIN:VTIMEZONE
TZID:America/New_York
BEGIN:DAYLIGHT
TZOFFSETFROM:-0500
TZOFFSETTO:-0400
TZNAME:EDT
DTSTART:20210314T070000
END:DAYLIGHT
BEGIN:STANDARD
TZOFFSETFROM:-0400
TZOFFSETTO:-0500
TZNAME:EST
DTSTART:20211107T060000
END:STANDARD
END:VTIMEZONE
BEGIN:VEVENT
DTSTART;TZID=America/New_York:20210530T180000
DTEND;TZID=America/New_York:20210530T190000
DTSTAMP:20210715T141925
CREATED:20210528T220342Z
LAST-MODIFIED:20210528T220610Z
UID:8490-1622397600-1622401200@kairoscenter.org
SUMMARY:Season of Jubilee: Body and Soul
DESCRIPTION:Dr. Tejai Beulah and Jacob Butterly (PPF! PA) lead us in reflecting on how the structures of our society exclude and condemn certain expressions of the body that don’t conform to and benefit the system\, often separating sinful “flesh” from pious “spirit.” God values all life\, provides abundance for all\, wants us to enjoy and be our fullest selves\, and God rejects those forces that deny life and degrade this fullness. (Romans 8:12-17) \n**Spanish and ASL interpreters provided.** \nImage: PPC Community Art Build\, 2018 photo credit Steve Pavey. \n— \nDr. Tejai Beulah y Jacob Butterly (PPF PA) nos llevan a reflexionar sobre cómo las estructuras de nuestra sociedad excluyen y condenan ciertas expresiones del cuerpo que no se ajustan y benefician al sistema\, a menudo separando la “carne” pecaminosa del “espíritu” piadoso. Dios valora toda la vida\, proporciona abundancia para todos\, quiere que disfrutemos y seamos nosotros mismos\, y Dios rechaza esas fuerzas que niegan la vida y degradan esta plenitud. (Romanos 8: 12-17) \n**Intérpretes de español y ASL proporcionados.** \nImagen: PPC Community Art Build\, Crédito de la foto del 2018 a Steve Pavey.
URL:https://kairoscenter.org/event/season-of-jubilee-body-and-soul/
CATEGORIES:Freedom Church of the Poor
ATTACH;FMTTYPE=image/jpeg:https://kairoscenter.org/wp-content/uploads/2021/05/FBEvent_FCOP_May30th_English.jpg
END:VEVENT
END:VCALENDAR